BEGIN:VCALENDAR
VERSION:2.0
PRODID:-//ChamberMaster//Event Calendar 2.0//EN
METHOD:PUBLISH
X-PUBLISHED-TTL:P3D
REFRESH-INTERVAL:P3D
CALSCALE:GREGORIAN
BEGIN:VEVENT
DTSTART:20230325T140000Z
DTEND:20230325T160000Z
X-MICROSOFT-CDO-ALLDAYEVENT:FALSE
SUMMARY:Viking 5K
DESCRIPTION:The St. Johns River State College Foundation is excited to share that this year's run will be the Viking 5K\, taking place at our very own St. Johns River State College Palatka Campus on March 25\, 2023. The race will begin at 10:00 a.m. and take you on a road race around our community. Registration will begin at 9:00 a.m.\n\nThis chip-timed race will have an overall male and female winner. First\, second and third place prizes will be awarded to both male and female runners in the following age groups: 9 and under\, 10-14\, 15-19\, 20-24\, 25-29\, 30-34\, 35-39. 40-44\, 45-49\, 50-54\, 55-59\, 60-64\, 65-69\, 70 and up. \n\nEach runner will receive a medal and swag bag\, including a commemorative t-shirt while supplies last. Tiles will be given to those who place. Stick around after the Run for festivities\, which will be announced in the coming weeks. \n\nDon't miss this fun-filled Viking event! Stick around afterwards for food and beverages available for purchase. \n\nIf you have any questions\, please call the Foundation at (386) 312-4100.
X-ALT-DESC;FMTTYPE=text/html:<p>The St. Johns River State College Foundation is excited to share that this year&rsquo\;s run will be the Viking 5K\, taking place at our very own St. Johns River State College Palatka Campus on March 25\, 2023. The race will begin at 10:00 a.m. and take you on a road race around our community. Registration will begin at 9:00 a.m.</p>\n\n<p>This chip-timed race will have an overall male and female winner. First\, second and third place prizes will be awarded to both male and female runners in the following age groups: 9 and under\, 10-14\, 15-19\, 20-24\, 25-29\, 30-34\, 35-39. 40-44\, 45-49\, 50-54\, 55-59\, 60-64\, 65-69\, 70 and up.&nbsp\;</p>\n\n<p>Each runner will receive a medal and swag bag\, including a commemorative t-shirt while supplies last. Tiles will be given to those who place. Stick around after the Run for festivities\, which will be announced in the coming weeks.&nbsp\;</p>\n\n<p>Don&rsquo\;t miss this fun-filled Viking event! Stick around afterwards for food and beverages available for purchase.&nbsp\;</p>\n\n<p>If you have any questions\, please call the Foundation at (386) 312-4100.</p>\n
LOCATION:St. Johns River State College Palatka Campus 5001 St. Johns Avenue Palatka\, Florida 32177
UID:e.566.4843
SEQUENCE:3
DTSTAMP:20260422T222618Z
URL:https://business.putnamcountychamber.com/events/details/viking-5k-4843
END:VEVENT

END:VCALENDAR
