BEGIN:VCALENDAR
VERSION:2.0
PRODID:-//ChamberMaster//Event Calendar 2.0//EN
METHOD:PUBLISH
X-PUBLISHED-TTL:P3D
REFRESH-INTERVAL:P3D
CALSCALE:GREGORIAN
BEGIN:VEVENT
DTSTART:20220528T160000Z
DTEND:20220529T000000Z
X-MICROSOFT-CDO-ALLDAYEVENT:FALSE
SUMMARY:Under the Florida Sun Music Festival
DESCRIPTION:Come check out the Howlin Wolf's 1st Under the Florida Sun Festival. May 28th 12-8pm we will have vendors\, food trucks and great music all day. Save the date!
X-ALT-DESC;FMTTYPE=text/html:Come check out the Howlin Wolf&#39\;s 1st Under the Florida Sun Festival. May 28th 12-8pm we will have vendors\, food trucks and great music all day. Save the date!
LOCATION:The Howlin Wolf 1701 SR 100 Melrose\, FL 32666
UID:e.566.4487
SEQUENCE:3
DTSTAMP:20260421T082317Z
URL:https://business.putnamcountychamber.com/events/details/under-the-florida-sun-music-festival-4487
END:VEVENT

END:VCALENDAR
