BEGIN:VCALENDAR
VERSION:2.0
PRODID:-//ChamberMaster//Event Calendar 2.0//EN
METHOD:PUBLISH
X-PUBLISHED-TTL:P3D
REFRESH-INTERVAL:P3D
CALSCALE:GREGORIAN
BEGIN:VEVENT
DTSTART:20191003T233000Z
DTEND:20191006T183000Z
X-MICROSOFT-CDO-ALLDAYEVENT:FALSE
SUMMARY:Silent Sky by Lauren Gunderson
DESCRIPTION:Silent Sky by Lauren Gunderson\nThe true story of 19th century astronomer Henrietta Leavitt explores a woman's place in science and society during a time of immense discovery. October 3-5\, at 7:30 p.m. and October 6\, at 2:30 p.m. at the Main Stage at Florida School of the Arts at St. Johns River State College.
X-ALT-DESC;FMTTYPE=text/html:<span style="font-size:12px"><span style="font-family:arial\,helvetica\,sans-serif"><strong><em>Silent Sky </em></strong>by Lauren Gunderson</span></span>\n<div><span style="font-size:12px"><span style="font-family:arial\,helvetica\,sans-serif">The true story of 19<sup>th</sup> century astronomer&nbsp\;Henrietta Leavitt explores a woman&rsquo\;s place in science&nbsp\;and society during a time of immense discovery.&nbsp\;October 3-5\, at 7:30 p.m. and October 6\, at 2:30 p.m. at the Main Stage at Florida School of the Arts at St. Johns River State College.</span></span></div>\n
LOCATION:The Main Stage at Florida School of the Arts at St. Johns River State College\, 5001 St. Johns Avenue\, Palatka\, FL 32177
UID:e.566.2832
SEQUENCE:3
DTSTAMP:20260419T174550Z
URL:https://business.putnamcountychamber.com/events/details/silent-sky-by-lauren-gunderson-2832
END:VEVENT

END:VCALENDAR
