BEGIN:VCALENDAR
VERSION:2.0
PRODID:-//ChamberMaster//Event Calendar 2.0//EN
METHOD:PUBLISH
X-PUBLISHED-TTL:P3D
REFRESH-INTERVAL:P3D
CALSCALE:GREGORIAN
BEGIN:VEVENT
DTSTART:20220923T130000Z
DTEND:20220925T190000Z
X-MICROSOFT-CDO-ALLDAYEVENT:FALSE
SUMMARY:Occupation of Palatka
DESCRIPTION:A living history event portraying the occupation of Palatka by a Union force in 1864. Period-correct re-enactors will portray Union soldiers and sailors\, Confederate home guard\, and civilians who were in Palatka at this time. The Bronson-Mulholland House\, Putnam County Historical Museum\, and St. Marks Episcopal Church will be open for visitors on Friday and Saturday (Sept. 23-24). The Bronson House and Museum will be open Sunday (Sept. 25)
X-ALT-DESC;FMTTYPE=text/html:A living history event portraying the occupation of Palatka by a Union force in 1864. Period-correct re-enactors will portray Union soldiers and sailors\, Confederate home guard\, and civilians who were in Palatka at this time. The Bronson-Mulholland House\, Putnam County Historical Museum\, and St. Marks Episcopal Church will be open for visitors on Friday and Saturday (Sept. 23-24). The Bronson House and Museum will be open Sunday (Sept. 25)
LOCATION:Bronson-Mulholland House 100 Madison Street Palatka\, FL 32177
UID:e.566.4768
SEQUENCE:3
DTSTAMP:20260422T005921Z
URL:https://business.putnamcountychamber.com/events/details/occupation-of-palatka-09-23-2022-4768
END:VEVENT

END:VCALENDAR
