BEGIN:VCALENDAR
VERSION:2.0
PRODID:-//ChamberMaster//Event Calendar 2.0//EN
METHOD:PUBLISH
X-PUBLISHED-TTL:P3D
REFRESH-INTERVAL:P3D
CALSCALE:GREGORIAN
BEGIN:VEVENT
DTSTART:20240719T230000Z
DTEND:20240720T010000Z
X-MICROSOFT-CDO-ALLDAYEVENT:FALSE
SUMMARY:Christmas in July Makers Retreat
DESCRIPTION:Celebrate the holiday season early with an evening of festive crafting! Join us at the San Mateo Woman's Club on July 19\, 2024\, at 7 PM for a creative experience.\n\nEvent Details:\n\n\n	Date: Thursday\, July 19\, 2024\n	Time: 7:00 PM\n	Location: San Mateo Woman's Club\n\n\nCrafting Options:\n\n\n	Choose from:\n	\n		Light up ceramic Christmas Tree\n		Truck with Tree\n		Gnome with Tree Hat\n		Light up sea glass trees\n	\n	\n\n\nRegistration:\n\n\n	A $25 deposit is required to secure your spot and will apply towards your total project cost at the event.\n\n\nCome and unleash your creativity! We look forward to crafting with you and celebrating the holiday spirit together.
X-ALT-DESC;FMTTYPE=text/html:<p>Celebrate the holiday season early with an evening of festive crafting! Join us at the San Mateo Woman&rsquo\;s Club on July 19\, 2024\, at 7 PM for a creative experience.</p>\n\n<p>Event Details:</p>\n\n<ul>\n	<li>Date:&nbsp\;Thursday\, July 19\, 2024</li>\n	<li>Time:&nbsp\;7:00 PM</li>\n	<li>Location:&nbsp\;San Mateo Woman&rsquo\;s Club</li>\n</ul>\n\n<p>Crafting Options:</p>\n\n<ul>\n	<li>Choose from:\n	<ul>\n		<li>Light up ceramic Christmas Tree</li>\n		<li>Truck with Tree</li>\n		<li>Gnome with Tree Hat</li>\n		<li>Light up sea glass trees</li>\n	</ul>\n	</li>\n</ul>\n\n<p>Registration:</p>\n\n<ul>\n	<li>A $25 deposit is required to secure your spot and will apply towards your total project cost at the event.</li>\n</ul>\n\n<p>Come and unleash your creativity! We look forward to crafting with you and celebrating the holiday spirit together.</p>\n
LOCATION:San Mateo Woman's Club 125 State Rte 100 San Mateo\, FL 32187
UID:e.566.5113
SEQUENCE:3
DTSTAMP:20260423T143634Z
URL:https://business.putnamcountychamber.com/events/details/christmas-in-july-makers-retreat-5113
END:VEVENT

END:VCALENDAR
